BEGIN:VCALENDAR
VERSION:2.0
PRODID:-//ChamberMaster//Event Calendar 2.0//EN
METHOD:PUBLISH
X-PUBLISHED-TTL:P3D
REFRESH-INTERVAL:P3D
CALSCALE:GREGORIAN
BEGIN:VEVENT
DTSTART:20150501T120000Z
DTEND:20150501T203000Z
X-MICROSOFT-CDO-ALLDAYEVENT:FALSE
SUMMARY:Youth Kickball League Registration Open
DESCRIPTION:Youth Kickball League for children ages 5-12 as of January 1\, 2015. Games will be played on Monday nights at 5:30pm and 7:00pm beginning June 22\, 2015. Teams will be co-ed.
X-ALT-DESC;FMTTYPE=text/html:Youth Kickball League for children ages 5-12 as of January 1\, 2015. Games will be played on Monday nights at 5:30pm and 7:00pm beginning June 22\, 2015. Teams will be co-ed.
LOCATION:Kasting Park
UID:e.1199.2696
SEQUENCE:3
DTSTAMP:20260421T143502Z
URL:https://business.jacksoncochamber.com/events/details/youth-kickball-league-registration-open-05-01-2015-2696
END:VEVENT

END:VCALENDAR
