BEGIN:VCALENDAR
VERSION:2.0
PRODID:-//ChamberMaster//Event Calendar 2.0//EN
METHOD:PUBLISH
X-PUBLISHED-TTL:P3D
REFRESH-INTERVAL:P3D
CALSCALE:GREGORIAN
BEGIN:VEVENT
DTSTART:20200317T193000Z
DTEND:20200317T213000Z
X-MICROSOFT-CDO-ALLDAYEVENT:FALSE
SUMMARY:Winter Market
DESCRIPTION:Learn more about becoming a vendor:\n\n https://www.seymourchamber.com/farmers-market/
X-ALT-DESC;FMTTYPE=text/html:<span style="color: rgb(51\, 51\, 51)\; font-family: sans-serif\, Arial\, Verdana\, &quot\;Trebuchet MS&quot\;\; font-size: 13px\; background-color: rgb(255\, 255\, 255)\;">Learn more about becoming a vendor:</span><br style="color: rgb(51\, 51\, 51)\; font-family: sans-serif\, Arial\, Verdana\, &quot\;Trebuchet MS&quot\;\; font-size: 13px\;" />\n<span style="color: rgb(51\, 51\, 51)\; font-family: sans-serif\, Arial\, Verdana\, &quot\;Trebuchet MS&quot\;\; font-size: 13px\; background-color: rgb(255\, 255\, 255)\;">&#8203\;</span><a href="https://www.seymourchamber.com/farmers-market/" style="color: rgb(7\, 130\, 193)\; font-family: sans-serif\, Arial\, Verdana\, &quot\;Trebuchet MS&quot\;\; font-size: 13px\;">https://www.seymourchamber.com/farmers-market/</a>
LOCATION:Smith Law Building 121 N. Chestnut St. Seymour
UID:e.1199.10406
SEQUENCE:3
DTSTAMP:20260425T020350Z
URL:https://business.jacksoncochamber.com/events/details/winter-market-03-17-2020-10406
END:VEVENT

END:VCALENDAR
