BEGIN:VCALENDAR
VERSION:2.0
PRODID:-//ChamberMaster//Event Calendar 2.0//EN
METHOD:PUBLISH
X-PUBLISHED-TTL:P3D
REFRESH-INTERVAL:P3D
CALSCALE:GREGORIAN
BEGIN:VEVENT
DTSTART:20111013T140000Z
DTEND:20111013T210000Z
X-MICROSOFT-CDO-ALLDAYEVENT:FALSE
SUMMARY:TRI-COUNTY EXPO
DESCRIPTION:
X-ALT-DESC;FMTTYPE=text/html:
LOCATION:The Commons in Columbus IN 47201. There is presently a waiting list for booths. Contact Gerrri at the Seymour Chamber (812) 522-3681\, if you are interested in a getting on a waiting list.
UID:e.1199.1159
SEQUENCE:3
DTSTAMP:20260421T182946Z
URL:https://business.jacksoncochamber.com/events/details/tri-county-expo-10-13-2011-1159
END:VEVENT

END:VCALENDAR
