BEGIN:VCALENDAR
VERSION:2.0
PRODID:-//ChamberMaster//Event Calendar 2.0//EN
METHOD:PUBLISH
X-PUBLISHED-TTL:P3D
REFRESH-INTERVAL:P3D
CALSCALE:GREGORIAN
BEGIN:VEVENT
DTSTART:20140222T000000Z
DTEND:20140222T030000Z
X-MICROSOFT-CDO-ALLDAYEVENT:FALSE
SUMMARY:Sweetheart Dance
DESCRIPTION:Dance Indiana's Sweetheart Dance Friday\, February 21st. 7 - 10 pm. Music by: The Sound of Dreams Light Appetizers Included Cash Bar Admission: $25 per person Tickets are non-refundable Advanced ticket purchase requested. Mail checks and ticket requests to - Dance Indiana PO Box 168 Columbus IN 47202 Email: danceindiana@gmail.com Tickets will also be sold at the door. What are you waiting for? Grab your dancing shoes and meet us on February 21st. at 7pm!
X-ALT-DESC;FMTTYPE=text/html:Dance Indiana&#39\;s Sweetheart Dance Friday\, February 21st. 7 - 10 pm. Music by: The Sound of Dreams Light Appetizers Included Cash Bar Admission: $25 per person Tickets are non-refundable Advanced ticket purchase requested. Mail checks and ticket requests to - Dance Indiana PO Box 168 Columbus IN 47202 Email: danceindiana@gmail.com Tickets will also be sold at the door. What are you waiting for? Grab your dancing shoes and meet us on February 21st. at 7pm! 
LOCATION:Nugent-Custer Performance Hall The Commons 300 Washington St Columbus IN 47201
UID:e.1199.2021
SEQUENCE:3
DTSTAMP:20260422T112754Z
URL:https://business.jacksoncochamber.com/events/details/sweetheart-dance-02-21-2014-2021
END:VEVENT

END:VCALENDAR
