BEGIN:VCALENDAR
VERSION:2.0
PRODID:-//ChamberMaster//Event Calendar 2.0//EN
METHOD:PUBLISH
X-PUBLISHED-TTL:P3D
REFRESH-INTERVAL:P3D
CALSCALE:GREGORIAN
BEGIN:VEVENT
DTSTART:20150215T000000Z
DTEND:20150215T030000Z
X-MICROSOFT-CDO-ALLDAYEVENT:FALSE
SUMMARY:Sweetheart Dance
DESCRIPTION:Dance Indiana's Valentine's Dance will be held at the Commons in downtown Columbus IN on Saturday\, February 14th.\, 2015. Ballroom dancing will begin at 7pm through 10pm. Doors open at 6:30pm for socializing\, appetizers\, and a cash bar. Please note the REDUCED PRICE OF TICKETS! It will be $20.00/per person. Questions or need tickets? Send us an email at danceindiana@gmail.com or drop us a note at Dance Indiana PO Box 168 Columbus IN 47202 Tickets will be sold at the door. Guaranteed fun for all!
X-ALT-DESC;FMTTYPE=text/html:Dance Indiana&#39\;s Valentine&#39\;s Dance will be held at the Commons in downtown Columbus IN on Saturday\, February 14th.\, 2015. Ballroom dancing will begin at 7pm through 10pm. Doors open at 6:30pm for socializing\, appetizers\, and a cash bar. Please note the REDUCED PRICE OF TICKETS! It will be $20.00/per person. Questions or need tickets? Send us an email at danceindiana@gmail.com or drop us a note at Dance Indiana PO Box 168 Columbus IN 47202 Tickets will be sold at the door. Guaranteed fun for all!
LOCATION:The Commons\, Columbus IN
UID:e.1199.2464
SEQUENCE:3
DTSTAMP:20260421T173206Z
URL:https://business.jacksoncochamber.com/events/details/sweetheart-dance-02-14-2015-2464
END:VEVENT

END:VCALENDAR
