BEGIN:VCALENDAR
VERSION:2.0
PRODID:-//ChamberMaster//Event Calendar 2.0//EN
METHOD:PUBLISH
X-PUBLISHED-TTL:P3D
REFRESH-INTERVAL:P3D
CALSCALE:GREGORIAN
BEGIN:VEVENT
DTSTART:20150622T220000Z
DTEND:20150627T010000Z
X-MICROSOFT-CDO-ALLDAYEVENT:FALSE
SUMMARY:SHS Owls Tennis Camp
DESCRIPTION:SHS Owls Tennis Camp for elementary/middle school students. Incoming Grades 1-4 from 6-7:30 PM Incoming Grades 5-8 from 7:30-9 PM Online registration is available
X-ALT-DESC;FMTTYPE=text/html:SHS Owls Tennis Camp for elementary/middle school students. Incoming Grades 1-4 from 6-7:30 PM Incoming Grades 5-8 from 7:30-9 PM Online registration is available
LOCATION:Seymour High School Tennis Courts
UID:e.1199.2709
SEQUENCE:3
DTSTAMP:20260421T114331Z
URL:https://business.jacksoncochamber.com/events/details/shs-owls-tennis-camp-06-22-2015-2709
END:VEVENT

END:VCALENDAR
