BEGIN:VCALENDAR
VERSION:2.0
PRODID:-//ChamberMaster//Event Calendar 2.0//EN
METHOD:PUBLISH
X-PUBLISHED-TTL:P3D
REFRESH-INTERVAL:P3D
CALSCALE:GREGORIAN
BEGIN:VEVENT
DTSTART:20150609T213000Z
DTEND:20150609T230000Z
X-MICROSOFT-CDO-ALLDAYEVENT:FALSE
SUMMARY:Seymour Soccer - Cyclones Call-Outs
DESCRIPTION:If you are interested in trying out for Seymour's travel soccer program\, please attend this event.
X-ALT-DESC;FMTTYPE=text/html:If you are interested in trying out for Seymour&#39\;s travel soccer program\, please attend this event.
LOCATION:Registration at Freeman Field\, shelter house
UID:e.1199.2701
SEQUENCE:3
DTSTAMP:20260421T114340Z
URL:https://business.jacksoncochamber.com/events/details/seymour-soccer-cyclones-call-outs-06-09-2015-2701
END:VEVENT

END:VCALENDAR
