BEGIN:VCALENDAR
VERSION:2.0
PRODID:-//ChamberMaster//Event Calendar 2.0//EN
METHOD:PUBLISH
X-PUBLISHED-TTL:P3D
REFRESH-INTERVAL:P3D
CALSCALE:GREGORIAN
BEGIN:VEVENT
DTSTART:20150605T160000Z
DTEND:20150607T010000Z
X-MICROSOFT-CDO-ALLDAYEVENT:FALSE
SUMMARY:Seymour Lady Owls Basketball Shootout
DESCRIPTION:The Seymour Lady Owls basketball team is hosting a shootout this summer. There are 12 teams participating in the event.
X-ALT-DESC;FMTTYPE=text/html:The Seymour Lady Owls basketball team is hosting a shootout this summer. There are 12 teams participating in the event.
LOCATION:Seymour High School
UID:e.1199.2698
SEQUENCE:3
DTSTAMP:20260421T114337Z
URL:https://business.jacksoncochamber.com/events/details/seymour-lady-owls-basketball-shootout-06-05-2015-2698
END:VEVENT

END:VCALENDAR
