BEGIN:VCALENDAR
VERSION:2.0
PRODID:-//ChamberMaster//Event Calendar 2.0//EN
METHOD:PUBLISH
X-PUBLISHED-TTL:P3D
REFRESH-INTERVAL:P3D
CALSCALE:GREGORIAN
BEGIN:VEVENT
DTSTART:20150808T120000Z
DTEND:20150808T160000Z
X-MICROSOFT-CDO-ALLDAYEVENT:FALSE
SUMMARY:Rock 'n Ready Race
DESCRIPTION:5K Run/ Walk 10K Run\n\nProceeds to benefit the Jackson County Rock n' Ready school back pack program\, which supplies school supplies to children in low income families.
X-ALT-DESC;FMTTYPE=text/html:5K Run/ Walk 10K Run<br />\nProceeds to benefit the Jackson County Rock n&#39\; Ready school back pack program\, which supplies school supplies to children in low income families.
LOCATION:Race Starts and finishes at the Seymour High School Commons area
UID:e.1199.2764
SEQUENCE:3
DTSTAMP:20260421T084434Z
URL:https://business.jacksoncochamber.com/events/details/rock-n-ready-race-08-08-2015-2764
END:VEVENT

END:VCALENDAR
