BEGIN:VCALENDAR
VERSION:2.0
PRODID:-//ChamberMaster//Event Calendar 2.0//EN
METHOD:PUBLISH
X-PUBLISHED-TTL:P3D
REFRESH-INTERVAL:P3D
CALSCALE:GREGORIAN
BEGIN:VEVENT
DTSTART:20200820T153000Z
DTEND:20200820T160000Z
X-MICROSOFT-CDO-ALLDAYEVENT:FALSE
SUMMARY:RBSK IT Consulting Tech Talk: Phishing 101 Webinar
DESCRIPTION:Hey there\,\n\n\n\nAfter getting a first hand look at HUNDREDS of phishing emails - we've put together 6 specific ways you can spot them - before you become the next victim - and 3 proactive tips you can implement quickly.\n\n\n\nAnd in our 30 minute Tech Talk: Phishing 101 webinar on Thursday\, August 20th starting at 11:30am\, we'll be giving you those exact strategies.\n\n\n\nEven if you can't join live - register now and we'll send you replay options\, our handy checklist and you'll be entered to win our Phishing Gear Giveaway. Click here to view our contest rules.\n\n\n\nBy the end - you'll have these practical tactics you can put into action right away.\n\n\n\nGet more details by registering now!\n\n\n\nLet's talk soon\,\n\n\n\nLiz Combs\n\nBusiness Development Manager\n\n812-222-1527
X-ALT-DESC;FMTTYPE=text/html:<span style="color:rgb(0\, 0\, 0)\; font-family:arial\,helvetica\,sans-serif\; font-size:18px">Hey there\,<br />\n<br />\nAfter getting a first hand look at HUNDREDS of phishing emails - we&#39\;ve put together 6 specific&nbsp\;ways you can spot them -&nbsp\;<em>before you become the next victim</em>&nbsp\;- and 3 proactive tips you can implement quickly.<br />\n<br />\nAnd in our 30 minute&nbsp\;</span><span style="color:rgb(255\, 51\, 204)\; font-family:arial\,helvetica\,sans-serif\; font-size:12px"><span style="font-size:18px"><strong>Tech Talk: Phishing 101 webinar on Thursday\, August 20th starting at 11:30am</strong></span></span><span style="color:rgb(0\, 0\, 0)\; font-family:arial\,helvetica\,sans-serif\; font-size:18px">\, we&#39\;ll be giving you those exact strategies.<br />\n<br />\nEven if you can&#39\;t join live -&nbsp\;</span><a href="https://mailchi.mp/7d3f7aef6c10/rbsk-it-tech-talk-phishing-101-registration" style="outline: 0px\; margin: 0px\; padding: 0px\; border: 0px\; font-size: 18px\; vertical-align: baseline\; background: rgb(250\, 250\, 250)\; text-decoration-line: none\; color: rgb(0\, 124\, 137)\; text-size-adjust: 100%\; font-family: Helvetica\;" target="_blank" title="RBSK IT | Tech Talk Registration"><span style="color:rgb(0\, 0\, 255)"><strong>register now</strong></span></a><span style="color:rgb(0\, 0\, 0)\; font-family:arial\,helvetica\,sans-serif\; font-size:18px">&nbsp\;and we&#39\;ll send you replay options\, our handy checklist and you&#39\;ll be entered to win our Phishing Gear Giveaway.&nbsp\;<a href="https://www.rbskit.com/~rbskitco/files/Phishing%20Gear%20Giveaway%20Contest%20Rules.pdf" style="outline: 0px\; margin: 0px\; padding: 0px\; border: 0px\; vertical-align: baseline\; background: transparent\; text-decoration-line: none\; color: rgb(43\, 104\, 147)\;" target="_blank">Click here</a>&nbsp\;to view our contest rules.<br />\n<br />\nBy the end&nbsp\;- you&#39\;ll have these&nbsp\;practical tactics you can put into action right&nbsp\;away.<br />\n<br />\nGet more details by registering now!<br />\n<br />\nLet&#39\;s talk soon\,<br />\n<br />\n<span style="font-family:times new roman"><strong>Liz Combs</strong></span><br />\nBusiness Development Manager<br />\n812-222-1527</span>
LOCATION:This is an online webinar - get registered by clicking here.
UID:e.1199.10585
SEQUENCE:3
DTSTAMP:20260421T195938Z
URL:https://business.jacksoncochamber.com/events/details/rbsk-it-consulting-tech-talk-phishing-101-webinar-08-20-2020-10585
END:VEVENT

END:VCALENDAR
