BEGIN:VCALENDAR
VERSION:2.0
PRODID:-//ChamberMaster//Event Calendar 2.0//EN
METHOD:PUBLISH
X-PUBLISHED-TTL:P3D
REFRESH-INTERVAL:P3D
CALSCALE:GREGORIAN
BEGIN:VEVENT
DTSTART:20210113T020000Z
DTEND:20210113T050000Z
X-MICROSOFT-CDO-ALLDAYEVENT:FALSE
SUMMARY:Professional Headshots with Kevin Bell 1/13
DESCRIPTION:Professional headshots with Kevin Bell Photography\n\nJanuary 13\, 2021 \, 12 - 3 p.m.\n\nClick the register button to select the time that best suits your schedule.\n\n\n\n$40 for members\n\n$50 for non members\n\n10% discount for 5 or more\n\n20% discount for 10 or more\n\nKevin Bell will invoice.\n\n15 minutes per session\n\n\n\nKevin Bell Photography will handle billing. Please make checks payable to Kevin Bell Photography.
X-ALT-DESC;FMTTYPE=text/html:<u>Professional headshots with Kevin Bell Photography</u><br />\nJanuary 13\, 2021 \, 12 - 3 p.m.<br />\nClick the register button to select the time that best suits your schedule.<br />\n<br />\n$40 for members<br />\n$50 for non members<br />\n10% discount for 5 or more<br />\n20% discount for 10 or more<br />\nKevin Bell will invoice.<br />\n15 minutes per session<br />\n<br />\nKevin Bell Photography will handle billing. Please make checks payable to Kevin Bell Photography.
LOCATION:
UID:e.1199.10801
SEQUENCE:3
DTSTAMP:20260423T125744Z
URL:https://business.jacksoncochamber.com/events/details/professional-headshots-with-kevin-bell-1-13-10801
END:VEVENT

END:VCALENDAR
