BEGIN:VCALENDAR
VERSION:2.0
PRODID:-//ChamberMaster//Event Calendar 2.0//EN
METHOD:PUBLISH
X-PUBLISHED-TTL:P3D
REFRESH-INTERVAL:P3D
CALSCALE:GREGORIAN
BEGIN:VEVENT
DTSTART:20260217T130000Z
DTEND:20260217T190000Z
X-MICROSOFT-CDO-ALLDAYEVENT:FALSE
SUMMARY:Professional Headshots with Darren Cain Photography
DESCRIPTION:Professional Headshots with Darren Cain Photography\n\n\n\nClick the register button to select the time that best suits your schedule.
X-ALT-DESC;FMTTYPE=text/html:<u>Professional Headshots with Darren Cain Photography</u><br />\n<br />\nClick the register button to select the time that best suits your schedule.<br />\n<br />\n<br />\n<br />\n&nbsp\;
LOCATION:The Copper Top
UID:e.1199.12464
SEQUENCE:3
DTSTAMP:20260421T102948Z
URL:https://business.jacksoncochamber.com/events/details/professional-headshots-with-darren-cain-photography-12464
END:VEVENT

END:VCALENDAR
