BEGIN:VCALENDAR
VERSION:2.0
PRODID:-//ChamberMaster//Event Calendar 2.0//EN
METHOD:PUBLISH
X-PUBLISHED-TTL:P3D
REFRESH-INTERVAL:P3D
CALSCALE:GREGORIAN
BEGIN:VEVENT
DTSTART:20220519T160000Z
DTEND:20220519T170000Z
X-MICROSOFT-CDO-ALLDAYEVENT:FALSE
SUMMARY:Power Lunch - Vision 2025
DESCRIPTION:Power Lunch - Vision 2025\n\nLunch provided \n\n\n\nThe purpose of Vision 2025 is to develop the future identity of Seymour\, identify the resources needed to achieve this vision and create a roadmap to implement these changes over the next ten years
X-ALT-DESC;FMTTYPE=text/html:Power Lunch - Vision 2025<br />\nLunch provided&nbsp\;<br />\n<br />\n<span style="caret-color: rgb(64\, 63\, 66)\; color: rgb(64\, 63\, 66)\; font-family: Arial\, Verdana\, Helvetica\, sans-serif\; font-size: 18px\;">The purpose of Vision 2025 is to develop the future identity of Seymour\, identify the resources needed to achieve this vision and create a roadmap to implement these changes over the next ten years</span><br />\n<br />\n&nbsp\;
LOCATION:Chamber Board Room 105 S Chestnut St
UID:e.1199.11012
SEQUENCE:3
DTSTAMP:20260424T141616Z
URL:https://business.jacksoncochamber.com/events/details/power-lunch-vision-2025-11012
END:VEVENT

END:VCALENDAR
