BEGIN:VCALENDAR
VERSION:2.0
PRODID:-//ChamberMaster//Event Calendar 2.0//EN
METHOD:PUBLISH
X-PUBLISHED-TTL:P3D
REFRESH-INTERVAL:P3D
CALSCALE:GREGORIAN
BEGIN:VEVENT
DTSTART:20200324T203000Z
DTEND:20200324T223000Z
X-MICROSOFT-CDO-ALLDAYEVENT:FALSE
SUMMARY:POSTPONED: Meet & Greet for New Chamber President\, Dan Robison
DESCRIPTION:POSTPONED: Meet Dan Robison\, incoming Seymour Chamber president.\n\n\n\nDrinks and hors d'oeuvres will be served.\n\n\n\nLearn more about Dan by reading the full press release here.
X-ALT-DESC;FMTTYPE=text/html:POSTPONED: Meet Dan Robison\, incoming Seymour Chamber president.<br />\n<br />\nDrinks and hors d&#39\;oeuvres will be served.<br />\n<br />\nLearn more about Dan by reading the full press release <a href="http://business.seymourchamber.com/news/details/news-release-2-3-2020?_ga=2.246236812.968770354.1580752801-275000159.1475865142"><span style="color:#0000FF\;">here</span></a><span style="color:#0000FF\;">.</span>
LOCATION:Chamber office 105 S. Chestnut St. Seymour\, IN
UID:e.1199.10402
SEQUENCE:3
DTSTAMP:20260425T020548Z
URL:https://business.jacksoncochamber.com/events/details/postponed-meet-greet-for-new-chamber-president-dan-robison-10402
END:VEVENT

END:VCALENDAR
