BEGIN:VCALENDAR
VERSION:2.0
PRODID:-//ChamberMaster//Event Calendar 2.0//EN
METHOD:PUBLISH
X-PUBLISHED-TTL:P3D
REFRESH-INTERVAL:P3D
CALSCALE:GREGORIAN
BEGIN:VEVENT
DTSTART:20110817T150000Z
DTEND:20110817T170000Z
X-MICROSOFT-CDO-ALLDAYEVENT:FALSE
SUMMARY:Picnic-Jkson-Jennings Co-op Chamber
DESCRIPTION:This is a picnic is for Chamber members only and is co-sponsored by the Greater Seymour Chamber of Commerce.\n\n\n\nIt is a free networking opportunity.  Please call 522-3681 by noon\, Friday\, August 12th\,  to make your reservation.
X-ALT-DESC;FMTTYPE=text/html:This is a picnic is for Chamber members only and is co-sponsored by the Greater Seymour Chamber of Commerce.<br />\n<br />\nIt is a free networking opportunity.&nbsp\; Please call 522-3681 by noon\, Friday\, August 12th\, &nbsp\;to make your reservation.
LOCATION:
UID:e.1199.907
SEQUENCE:3
DTSTAMP:20260421T211112Z
URL:https://business.jacksoncochamber.com/events/details/picnic-jkson-jennings-co-op-chamber-08-17-2011-907
END:VEVENT

END:VCALENDAR
