BEGIN:VCALENDAR
VERSION:2.0
PRODID:-//ChamberMaster//Event Calendar 2.0//EN
METHOD:PUBLISH
X-PUBLISHED-TTL:P3D
REFRESH-INTERVAL:P3D
CALSCALE:GREGORIAN
BEGIN:VEVENT
DTSTART:20110929T150000Z
DTEND:20111002T020000Z
X-MICROSOFT-CDO-ALLDAYEVENT:FALSE
SUMMARY:OKTOBERFEST IN DOWNTOWN SEYMOUR
DESCRIPTION:THIS ANNUAL GERMAN COMMUNITY 3-DAY EVENT IS FULL OF GOOD FOOD\, ENTERTAINMENT\, CRAFT BOOTHS\, A BEER GARDEN\, PARADE\, 5K RUN AND HOT AIR BALLOON SPECTACULAR!!
X-ALT-DESC;FMTTYPE=text/html:<p>\n	<strong>THIS ANNUAL GERMAN COMMUNITY 3-DAY EVENT IS FULL OF GOOD FOOD\, ENTERTAINMENT\, CRAFT BOOTHS\, A BEER GARDEN\, PARADE\, 5K RUN AND HOT AIR BALLOON SPECTACULAR!!</strong></p>\n
LOCATION:
UID:e.1199.769
SEQUENCE:3
DTSTAMP:20260421T183319Z
URL:https://business.jacksoncochamber.com/events/details/oktoberfest-in-downtown-seymour-09-29-2011-769
END:VEVENT

END:VCALENDAR
