BEGIN:VCALENDAR
VERSION:2.0
PRODID:-//ChamberMaster//Event Calendar 2.0//EN
METHOD:PUBLISH
X-PUBLISHED-TTL:P3D
REFRESH-INTERVAL:P3D
CALSCALE:GREGORIAN
BEGIN:VEVENT
DTSTART:20111019T223000Z
DTEND:20111020T000000Z
X-MICROSOFT-CDO-ALLDAYEVENT:FALSE
SUMMARY:Maverick Challenge Bus & Planning Seminar
DESCRIPTION:
X-ALT-DESC;FMTTYPE=text/html:
LOCATION:
UID:e.1199.1162
SEQUENCE:3
DTSTAMP:20260421T195023Z
URL:https://business.jacksoncochamber.com/events/details/maverick-challenge-bus-planning-seminar-10-19-2011-1162
END:VEVENT

END:VCALENDAR
