BEGIN:VCALENDAR
VERSION:2.0
PRODID:-//ChamberMaster//Event Calendar 2.0//EN
METHOD:PUBLISH
X-PUBLISHED-TTL:P3D
REFRESH-INTERVAL:P3D
CALSCALE:GREGORIAN
BEGIN:VEVENT
DTSTART:20121010T160000Z
DTEND:20121010T170000Z
X-MICROSOFT-CDO-ALLDAYEVENT:FALSE
SUMMARY:Lunch and Learn
DESCRIPTION:
X-ALT-DESC;FMTTYPE=text/html:
LOCATION:
UID:e.1199.1328
SEQUENCE:3
DTSTAMP:20260422T022659Z
URL:https://business.jacksoncochamber.com/events/details/lunch-and-learn-10-10-2012-1328
END:VEVENT

END:VCALENDAR
