BEGIN:VCALENDAR
VERSION:2.0
PRODID:-//ChamberMaster//Event Calendar 2.0//EN
METHOD:PUBLISH
X-PUBLISHED-TTL:P3D
REFRESH-INTERVAL:P3D
CALSCALE:GREGORIAN
BEGIN:VEVENT
DTSTART:20081210T163000Z
DTEND:20081210T180000Z
X-MICROSOFT-CDO-ALLDAYEVENT:FALSE
SUMMARY:LJC Distinguished Speakers Series
DESCRIPTION:
X-ALT-DESC;FMTTYPE=text/html:
LOCATION:Leadership Jackson County's next Distinguished Speakers Series will be Weds\, December 10th and will feature Pat McCammom\, owner of Hoopdaloop. Pat's story is one of inspiration! Don't miss out! The luncheon will be held at the Jackson Co Education Center (JCEC) from 11:30 a.m. - 1:00 p.m. Lunch is $10. Please call by 5 p.m. on Friday\, Dec. 5th for reservations. (522-4871) or see Susie Gleyze-Thomas for additiional info or tickets.
UID:e.1199.89
SEQUENCE:3
DTSTAMP:20260425T140238Z
URL:https://business.jacksoncochamber.com/events/details/ljc-distinguished-speakers-series-12-10-2008-89
END:VEVENT

END:VCALENDAR
