BEGIN:VCALENDAR
VERSION:2.0
PRODID:-//ChamberMaster//Event Calendar 2.0//EN
METHOD:PUBLISH
X-PUBLISHED-TTL:P3D
REFRESH-INTERVAL:P3D
CALSCALE:GREGORIAN
BEGIN:VEVENT
DTSTART:20220614T200000Z
DTEND:20220614T220000Z
X-MICROSOFT-CDO-ALLDAYEVENT:FALSE
SUMMARY:JCYP Summer Social
DESCRIPTION:Jackson County Young Professionals\n\nSummer Social - Meet & Mingle
X-ALT-DESC;FMTTYPE=text/html:Jackson County Young Professionals<br />\nSummer Social - Meet &amp\; Mingle
LOCATION:Poplar Street
UID:e.1199.11119
SEQUENCE:3
DTSTAMP:20260425T234003Z
URL:https://business.jacksoncochamber.com/events/details/jcyp-summer-social-11119
END:VEVENT

END:VCALENDAR
