BEGIN:VCALENDAR
VERSION:2.0
PRODID:-//ChamberMaster//Event Calendar 2.0//EN
METHOD:PUBLISH
X-PUBLISHED-TTL:P3D
REFRESH-INTERVAL:P3D
CALSCALE:GREGORIAN
BEGIN:VEVENT
DTSTART:20210127T170000Z
DTEND:20210127T180000Z
X-MICROSOFT-CDO-ALLDAYEVENT:FALSE
SUMMARY:JCYP Professional Development
DESCRIPTION:Jackson County Young Professionals\n\nJanuary Professional Development Event\n\n\n\n"Mortgage 101/ / Buying & Selling Your Home"\n\nGoody Box/Bag for all who register with a fun game!\n\nGuest Speakers: Dave Inabnit (Bailey & Wood Mortgage Lender) &\n\nChelsea Burrell & Bethany Rust (Uptown Realty)
X-ALT-DESC;FMTTYPE=text/html:Jackson County Young Professionals<br />\nJanuary Professional Development Event<br />\n<br />\n&quot\;Mortgage 101/ / Buying &amp\; Selling Your Home&quot\;<br />\nGoody Box/Bag for all who register with a fun game!<br />\nGuest Speakers: Dave Inabnit (Bailey &amp\; Wood Mortgage Lender) &amp\;<br />\nChelsea Burrell &amp\; Bethany Rust (Uptown Realty)
LOCATION:Zoom only - Your link will be emailed after registration
UID:e.1199.10806
SEQUENCE:3
DTSTAMP:20260423T131448Z
URL:https://business.jacksoncochamber.com/events/details/jcyp-professional-development-10806
END:VEVENT

END:VCALENDAR
