BEGIN:VCALENDAR
VERSION:2.0
PRODID:-//ChamberMaster//Event Calendar 2.0//EN
METHOD:PUBLISH
X-PUBLISHED-TTL:P3D
REFRESH-INTERVAL:P3D
CALSCALE:GREGORIAN
BEGIN:VEVENT
DTSTART:20231114T213000Z
DTEND:20231114T230000Z
X-MICROSOFT-CDO-ALLDAYEVENT:FALSE
SUMMARY:JCYP November Social
DESCRIPTION:JCYP Social @ Pizza Palace\n\n\n\nThis EXCLUSIVE access event is for JCYP members only.
X-ALT-DESC;FMTTYPE=text/html:JCYP Social @ Pizza Palace<br />\n<br />\nThis EXCLUSIVE access event is for JCYP members only.<br />\n<br />\n&nbsp\;
LOCATION:Pizza Palace Seymour
UID:e.1199.11912
SEQUENCE:3
DTSTAMP:20260421T225326Z
URL:https://business.jacksoncochamber.com/events/details/jcyp-november-social-11912
END:VEVENT

END:VCALENDAR
