BEGIN:VCALENDAR
VERSION:2.0
PRODID:-//ChamberMaster//Event Calendar 2.0//EN
METHOD:PUBLISH
X-PUBLISHED-TTL:P3D
REFRESH-INTERVAL:P3D
CALSCALE:GREGORIAN
BEGIN:VEVENT
DTSTART:20120212T003000Z
DTEND:20120212T020000Z
X-MICROSOFT-CDO-ALLDAYEVENT:FALSE
SUMMARY:I.U. Singing Hoosiers
DESCRIPTION:Tickets on sale now:  Adults $15    Students: $12   Available at  the Seymour High School office\, Chamber\, City Hall\, IBT\, Bevers Pharmacy\, and The Tribune in Seymour AND The Peoples  Bank in Brownstown.
X-ALT-DESC;FMTTYPE=text/html:<p>\n	Tickets on sale now:&nbsp\; Adults $15&nbsp\;&nbsp\;&nbsp\; Students: $12&nbsp\;&nbsp\; Available at&nbsp\; the Seymour High School office\, Chamber\, City Hall\, IBT\, Bevers Pharmacy\, and The Tribune in Seymour AND The Peoples&nbsp\; Bank in Brownstown.</p>\n
LOCATION:Seymour High School Auditorium 1350 W. Second St. Seymour IN 47274
UID:e.1199.1168
SEQUENCE:3
DTSTAMP:20260421T151939Z
URL:https://business.jacksoncochamber.com/events/details/i-u-singing-hoosiers-02-11-2012-1168
END:VEVENT

END:VCALENDAR
