BEGIN:VCALENDAR
VERSION:2.0
PRODID:-//ChamberMaster//Event Calendar 2.0//EN
METHOD:PUBLISH
X-PUBLISHED-TTL:P3D
REFRESH-INTERVAL:P3D
CALSCALE:GREGORIAN
BEGIN:VEVENT
DTSTART:20210114T180000Z
DTEND:20210114T190000Z
X-MICROSOFT-CDO-ALLDAYEVENT:FALSE
SUMMARY:Groups Recover Together Ribbon Cutting
DESCRIPTION:Seymour Groups Recover Together\n\nRibbon Cutting/Grand Opening\n\nRefreshments following
X-ALT-DESC;FMTTYPE=text/html:Seymour Groups Recover Together<br />\nRibbon Cutting/Grand Opening<br />\nRefreshments following<br />\n&nbsp\;
LOCATION:321 W Bruce St Seymour
UID:e.1199.10802
SEQUENCE:3
DTSTAMP:20260423T132031Z
URL:https://business.jacksoncochamber.com/events/details/groups-recover-together-ribbon-cutting-10802
END:VEVENT

END:VCALENDAR
