BEGIN:VCALENDAR
VERSION:2.0
PRODID:-//ChamberMaster//Event Calendar 2.0//EN
METHOD:PUBLISH
X-PUBLISHED-TTL:P3D
REFRESH-INTERVAL:P3D
CALSCALE:GREGORIAN
BEGIN:VEVENT
DTSTART:20220617T163000Z
DTEND:20220617T173000Z
X-MICROSOFT-CDO-ALLDAYEVENT:FALSE
SUMMARY:Forever Young Studio Ribbon Cutting
DESCRIPTION:Forever Young Studio Ribbon Cutting
X-ALT-DESC;FMTTYPE=text/html:Forever Young Studio Ribbon Cutting
LOCATION:101 W Tipton Street Seymour
UID:e.1199.11130
SEQUENCE:3
DTSTAMP:20260422T155935Z
URL:https://business.jacksoncochamber.com/events/details/forever-young-studio-ribbon-cutting-11130
END:VEVENT

END:VCALENDAR
