BEGIN:VCALENDAR
VERSION:2.0
PRODID:-//ChamberMaster//Event Calendar 2.0//EN
METHOD:PUBLISH
X-PUBLISHED-TTL:P3D
REFRESH-INTERVAL:P3D
CALSCALE:GREGORIAN
BEGIN:VEVENT
DTSTART:20200210T200000Z
DTEND:20200210T210000Z
X-MICROSOFT-CDO-ALLDAYEVENT:FALSE
SUMMARY:Finance Committee Meeting
DESCRIPTION:Monthly Finance Committee meeting
X-ALT-DESC;FMTTYPE=text/html:Monthly Finance Committee meeting&nbsp\;
LOCATION:Chamber office 105 S. Chestnut St. Seymour\, IN 47274
UID:e.1199.9904
SEQUENCE:3
DTSTAMP:20260421T084605Z
URL:https://business.jacksoncochamber.com/events/details/finance-committee-meeting-02-10-2020-9904
END:VEVENT

END:VCALENDAR
