BEGIN:VCALENDAR
VERSION:2.0
PRODID:-//ChamberMaster//Event Calendar 2.0//EN
METHOD:PUBLISH
X-PUBLISHED-TTL:P3D
REFRESH-INTERVAL:P3D
CALSCALE:GREGORIAN
BEGIN:VEVENT
DTSTART:20210114T170000Z
DTEND:20210114T180000Z
X-MICROSOFT-CDO-ALLDAYEVENT:FALSE
SUMMARY:Feeding the Community Coalition Meeting
DESCRIPTION:Feeding the Community Coalition\n\n\n\nIn person or via zoom (zoom invitation will be sent at a later date)
X-ALT-DESC;FMTTYPE=text/html:Feeding the Community Coalition<br />\n<br />\nIn person or via zoom (zoom invitation will be sent at a later date)
LOCATION:Chamber 105 S Chestnut St
UID:e.1199.10779
SEQUENCE:3
DTSTAMP:20260423T131836Z
URL:https://business.jacksoncochamber.com/events/details/feeding-the-community-coalition-meeting-10779
END:VEVENT

END:VCALENDAR
