BEGIN:VCALENDAR
VERSION:2.0
PRODID:-//ChamberMaster//Event Calendar 2.0//EN
METHOD:PUBLISH
X-PUBLISHED-TTL:P3D
REFRESH-INTERVAL:P3D
CALSCALE:GREGORIAN
BEGIN:VEVENT
DTSTART:20210111T210000Z
DTEND:20210111T220000Z
X-MICROSOFT-CDO-ALLDAYEVENT:FALSE
SUMMARY:Executive Committee Meeting
DESCRIPTION:Executive Committee Meeting
X-ALT-DESC;FMTTYPE=text/html:Executive Committee Meeting
LOCATION:Chamber office 105 S. Chestnut St.
UID:e.1199.9728
SEQUENCE:3
DTSTAMP:20260423T132010Z
URL:https://business.jacksoncochamber.com/events/details/executive-committee-meeting-01-11-2021-9728
END:VEVENT

END:VCALENDAR
