BEGIN:VCALENDAR
VERSION:2.0
PRODID:-//ChamberMaster//Event Calendar 2.0//EN
METHOD:PUBLISH
X-PUBLISHED-TTL:P3D
REFRESH-INTERVAL:P3D
CALSCALE:GREGORIAN
BEGIN:VEVENT
DTSTART:20190123T213000Z
DTEND:20190123T223000Z
X-MICROSOFT-CDO-ALLDAYEVENT:FALSE
SUMMARY:DIY - Recycled Tote Bag
DESCRIPTION:Help the Earth and reduce waste by turning chip bags into a stylish and fun tote you can use any time. Grades 6-12. Limit 20. Registration required.
X-ALT-DESC;FMTTYPE=text/html:Help the Earth and reduce waste by turning chip bags into a stylish and fun tote you can use any time. Grades 6-12. Limit 20. Registration required.
LOCATION:Jackson County Public Library Teen Scene
UID:e.1199.9497
SEQUENCE:3
DTSTAMP:20260426T013120Z
URL:https://business.jacksoncochamber.com/events/details/diy-recycled-tote-bag-9497
END:VEVENT

END:VCALENDAR
