BEGIN:VCALENDAR
VERSION:2.0
PRODID:-//ChamberMaster//Event Calendar 2.0//EN
METHOD:PUBLISH
X-PUBLISHED-TTL:P3D
REFRESH-INTERVAL:P3D
CALSCALE:GREGORIAN
BEGIN:VEVENT
DTSTART:20220517T130000Z
DTEND:20220517T140000Z
X-MICROSOFT-CDO-ALLDAYEVENT:FALSE
SUMMARY:Culver's Ribbon Cutting
DESCRIPTION:Join us to celebrate Seymour's newest restaurant opening!
X-ALT-DESC;FMTTYPE=text/html:Join us to celebrate Seymour&#39\;s newest restaurant opening!
LOCATION:203 N Sandy Creek Dr Seymour
UID:e.1199.11111
SEQUENCE:3
DTSTAMP:20260426T031102Z
URL:https://business.jacksoncochamber.com/events/details/culver-s-ribbon-cutting-11111
END:VEVENT

END:VCALENDAR
