BEGIN:VCALENDAR
VERSION:2.0
PRODID:-//ChamberMaster//Event Calendar 2.0//EN
METHOD:PUBLISH
X-PUBLISHED-TTL:P3D
REFRESH-INTERVAL:P3D
CALSCALE:GREGORIAN
BEGIN:VEVENT
DTSTART:20221112T190000Z
DTEND:20221112T200000Z
X-MICROSOFT-CDO-ALLDAYEVENT:FALSE
SUMMARY:Christmas Swag
DESCRIPTION:Just in time for the holidays\, Information Services Assistant Trina Roark will show you how to make a decorative and easy Christmas swag. *JOIN THE WAITING LIST Register by 11/10. Limit of 10 per session. Age Group: Adults Presenter: Trina Roark
X-ALT-DESC;FMTTYPE=text/html:Just in time for the holidays\, Information Services Assistant Trina Roark will show you how to make a decorative and easy Christmas swag. *JOIN THE WAITING LIST Register by 11/10. Limit of 10 per session. Age Group: Adults Presenter: Trina Roark
LOCATION:Seymour Public Library-Meeting Room 303 West Second Street Seymour\, Indiana 47274
UID:e.1199.11213
SEQUENCE:3
DTSTAMP:20260421T084317Z
URL:https://business.jacksoncochamber.com/events/details/christmas-swag-11213
END:VEVENT

END:VCALENDAR
