BEGIN:VCALENDAR
VERSION:2.0
PRODID:-//ChamberMaster//Event Calendar 2.0//EN
METHOD:PUBLISH
X-PUBLISHED-TTL:P3D
REFRESH-INTERVAL:P3D
CALSCALE:GREGORIAN
BEGIN:VEVENT
DTSTART:20120425T160000Z
DTEND:20120425T170000Z
X-MICROSOFT-CDO-ALLDAYEVENT:FALSE
SUMMARY:Chamber Marketing Task Force Mtg
DESCRIPTION:
X-ALT-DESC;FMTTYPE=text/html:
LOCATION:
UID:e.1199.383
SEQUENCE:3
DTSTAMP:20260421T183028Z
URL:https://business.jacksoncochamber.com/events/details/chamber-marketing-task-force-mtg-04-25-2012-383
END:VEVENT

END:VCALENDAR
