BEGIN:VCALENDAR
VERSION:2.0
PRODID:-//ChamberMaster//Event Calendar 2.0//EN
METHOD:PUBLISH
X-PUBLISHED-TTL:P3D
REFRESH-INTERVAL:P3D
CALSCALE:GREGORIAN
BEGIN:VEVENT
DTSTART:20120328T160000Z
DTEND:20120328T170000Z
X-MICROSOFT-CDO-ALLDAYEVENT:FALSE
SUMMARY:Chamber Marketing Task Force Mtg
DESCRIPTION:
X-ALT-DESC;FMTTYPE=text/html:
LOCATION:
UID:e.1199.382
SEQUENCE:3
DTSTAMP:20260421T183113Z
URL:https://business.jacksoncochamber.com/events/details/chamber-marketing-task-force-mtg-03-28-2012-382
END:VEVENT

END:VCALENDAR
