BEGIN:VCALENDAR
VERSION:2.0
PRODID:-//ChamberMaster//Event Calendar 2.0//EN
METHOD:PUBLISH
X-PUBLISHED-TTL:P3D
REFRESH-INTERVAL:P3D
CALSCALE:GREGORIAN
BEGIN:VEVENT
DTSTART:20200317T160000Z
DTEND:20200317T170000Z
X-MICROSOFT-CDO-ALLDAYEVENT:FALSE
SUMMARY:**Cancelled - Chamber Board of Director's Meeting
DESCRIPTION:Canceled\n\nThe March Board meeting has been canceled.
X-ALT-DESC;FMTTYPE=text/html:<em><u><strong>Canceled</strong></u></em><br />\nThe March Board meeting has been canceled.
LOCATION:
UID:e.1199.210
SEQUENCE:3
DTSTAMP:20260425T020804Z
URL:https://business.jacksoncochamber.com/events/details/cancelled-chamber-board-of-director-s-meeting-210
END:VEVENT

END:VCALENDAR
