BEGIN:VCALENDAR
VERSION:2.0
PRODID:-//ChamberMaster//Event Calendar 2.0//EN
METHOD:PUBLISH
X-PUBLISHED-TTL:P3D
REFRESH-INTERVAL:P3D
CALSCALE:GREGORIAN
BEGIN:VEVENT
DTSTART:20260617T153000Z
DTEND:20260617T170000Z
X-MICROSOFT-CDO-ALLDAYEVENT:FALSE
SUMMARY:2026 Women in Business Luncheon
DESCRIPTION:The Jackson County Chamber is excited to announce its upcoming Women in Business Luncheon\, taking place on June 17 from 11:30 a.m. to 1:00 p.m. at W.R. Ewing in Brownstown.\n\nThis inspiring event will bring together women from across Jackson County and the surrounding area for an afternoon of connection\, professional growth\, and community. Attendees will enjoy a delicious lunch\, meaningful networking opportunities\, and an engaging presentation from featured speaker Danielle Ireland.\n\nIn addition to the luncheon\, guests are invited to explore a variety of local vendors\, who will be set up from 10:00 a.m. to 2:00 p.m.\, offering a unique shopping experience before and after the event.\n\nThe Women in Business Luncheon is designed to celebrate and support women in all stages of their careers by fostering relationships\, sharing insights\, and encouraging leadership.\n\n\n\n\n \n\nMeet the Speaker: Danielle Ireland\n\nTopic: "Doing a Great Job Shouldn't Feel This Hard: Communication Tools for Women Who Care (and Carry) a Lot."\n\n\n\n\n\nSponsorship Information
X-ALT-DESC;FMTTYPE=text/html:<div class="xdj266r x11i5rnm xat24cr x1mh8g0r x1vvkbs x126k92a" style="margin: 0px\; overflow-wrap: break-word\; white-space: pre-wrap\; font-family: system-ui\, -apple-system\, BlinkMacSystemFont\, &quot\;.SFNSText-Regular&quot\;\, sans-serif\; caret-color: rgb(5\, 5\, 5)\; color: rgb(5\, 5\, 5)\; font-size: 15px\;">\n<div dir="auto" style="font-family: inherit\;">\n<p data-end="298" data-start="99" style="caret-color: rgb(0\, 0\, 0)\; color: rgb(0\, 0\, 0)\;">The Jackson County Chamber is excited to announce its upcoming&nbsp\;<em data-end="211" data-start="183">Women in Business Luncheon</em>\, taking place on&nbsp\;<strong data-end="269" data-start="229">June 17 from 11:30 a.m. to 1:00 p.m.</strong>&nbsp\;at W.R. Ewing in Brownstown.</p>\n\n<p data-end="616" data-start="300" style="caret-color: rgb(0\, 0\, 0)\; color: rgb(0\, 0\, 0)\;">This inspiring event will bring together women from across Jackson County and the surrounding area for an afternoon of connection\, professional growth\, and community. Attendees will enjoy a delicious lunch\, meaningful networking opportunities\, and an engaging presentation from featured speaker&nbsp\;<strong data-end="615" data-start="595">Danielle Ireland</strong>.</p>\n\n<p data-end="823" data-start="618" style="caret-color: rgb(0\, 0\, 0)\; color: rgb(0\, 0\, 0)\;">In addition to the luncheon\, guests are invited to explore a variety of local vendors\, who will be set up from&nbsp\;<strong data-end="756" data-start="729">10:00 a.m. to 2:00 p.m.</strong>\, offering a unique shopping experience before and after the event.</p>\n\n<p data-end="1003" data-start="825" style="caret-color: rgb(0\, 0\, 0)\; color: rgb(0\, 0\, 0)\;">The Women in Business Luncheon is designed to celebrate and support women in all stages of their careers by fostering relationships\, sharing insights\, and encouraging leadership.</p>\n</div>\n</div>\n\n<div class="x11i5rnm xat24cr x1mh8g0r x1vvkbs xtlvy1s x126k92a" style="margin: 0.5em 0px 0px\; overflow-wrap: break-word\; white-space: pre-wrap\; font-family: system-ui\, -apple-system\, BlinkMacSystemFont\, &quot\;.SFNSText-Regular&quot\;\, sans-serif\; caret-color: rgb(5\, 5\, 5)\; color: rgb(5\, 5\, 5)\; font-size: 15px\;">\n<div dir="auto" style="font-family: inherit\;">&nbsp\;\n<div style="font-family: -apple-system\, BlinkMacSystemFont\, &quot\;Segoe UI&quot\;\, Roboto\, Helvetica\, Arial\, sans-serif\, &quot\;Apple Color Emoji&quot\;\, &quot\;Segoe UI Emoji&quot\;\, &quot\;Segoe UI Symbol&quot\;\; color: rgb(28\, 43\, 51)\; font-size: 14px\; white-space: pre-wrap\;">\n<div style="direction: ltr\; font-family: inherit\;"><span style="font-size:14px\;"><span style="font-family:verdana\;"><a href="https://chambermaster.blob.core.windows.net/userfiles/UserFiles/chambers/1199/File/speakerbio.pdf">Meet the Speaker: Danielle Ireland</a><br />\nTopic: &quot\;Doing a Great Job Shouldn&#39\;t Feel This Hard: Communication Tools for Women Who Care (and Carry) a Lot.&quot\;</span></span><br />\n<br />\n<br />\n<span style="font-family: inherit\;"><a href="https://chambermaster.blob.core.windows.net/userfiles/UserFiles/chambers/1199/File/WomeninBusinessSponsorship.pdf">Sponsorship Information</a></span></div>\n</div>\n</div>\n</div>\n
LOCATION:WR Ewing Brownstown
UID:e.1199.12452
SEQUENCE:3
DTSTAMP:20260421T163803Z
URL:https://business.jacksoncochamber.com/events/details/2026-women-in-business-luncheon-12452
END:VEVENT

END:VCALENDAR
