BEGIN:VCALENDAR
VERSION:2.0
PRODID:-//ChamberMaster//Event Calendar 2.0//EN
METHOD:PUBLISH
X-PUBLISHED-TTL:P3D
REFRESH-INTERVAL:P3D
CALSCALE:GREGORIAN
BEGIN:VEVENT
DTSTART;VALUE=DATE:20250101
DTEND;VALUE=DATE:20260101
TRANSP:TRANSPARENT
X-MICROSOFT-CDO-ALLDAYEVENT:TRUE
SUMMARY:2025 Jackson County Young Professionals Membership
DESCRIPTION:2025 Jackson County Young Professionals\n\n\n\nJCYP is a group of 20 to 40 somethings who get together about once a month to make new connections\, hear from speakers & focus on growing in their career.  Most of us live or work in Jackson County but all are welcome.\n\n\n\nMission Statement\n\n Jackson County Young Professionals (JCYP) is a Jackson County Chamber initiative with the mission to attract\, retain and connect young talent in our community\; to engage and empower our next generation of business and community leaders to actively shape the Jackson County area.\n\n\n\n\n\nFAQS\n\n2025 Calendar
X-ALT-DESC;FMTTYPE=text/html:<span style="font-size:14px\;"><strong>2025 Jackson County Young Professionals</strong><br />\n<br />\n<span style="color: rgb(0\, 0\, 0)\; caret-color: rgb(10\, 97\, 173)\; font-family: Montserrat\, sans-serif\; text-align: center\;">JCYP is a group of 20 to 40 somethings who get together about once a month to make new connections\, hear from speakers &amp\; focus on growing in their career. &nbsp\;Most of us live or work in Jackson County but all are welcome.</span><br />\n<br />\n<strong><font color="#000000">Mission Statement</font></strong><br />\n<font color="#000000">&#8203\;<span style="caret-color: rgb(0\, 0\, 0)\;">Jackson</span>&nbsp\;County Young Professionals (JCYP) is a Jackson County Chamber initiative with the mission to attract\, retain and connect young&nbsp\;talent in our community\; to engage and empower our next generation of business and community leaders to actively shape the Jackson County area.</font></span><br style="caret-color: rgb(0\, 0\, 0)\; color: rgb(0\, 0\, 0)\;" />\n<br />\n<br />\n<strong><a href="https://chambermaster.blob.core.windows.net/userfiles/UserFiles/chambers/1199/File/jcypfaqs.pdf">FAQS</a><br />\n<a href="https://chambermaster.blob.core.windows.net/userfiles/UserFiles/chambers/1199/File/2025ypcalendar.pdf">2025 Calendar</a></strong>
LOCATION:Socials + Lunch & Learns are held in Jackson County Community Service Events
UID:e.1199.12173
SEQUENCE:3
DTSTAMP:20260421T222812Z
URL:https://business.jacksoncochamber.com/events/details/2025-jackson-county-young-professionals-membership-12173
END:VEVENT

END:VCALENDAR
