BEGIN:VCALENDAR
VERSION:2.0
PRODID:-//ChamberMaster//Event Calendar 2.0//EN
METHOD:PUBLISH
X-PUBLISHED-TTL:P3D
REFRESH-INTERVAL:P3D
CALSCALE:GREGORIAN
BEGIN:VEVENT
DTSTART:20200311T113000Z
DTEND:20200311T130000Z
X-MICROSOFT-CDO-ALLDAYEVENT:FALSE
SUMMARY:2020 Seymour Chamber Ag Breakfast & Scholarship Presentation
DESCRIPTION:2020 Ag Breakfast catered by Pewter Hall\n\n\n\nDick Moren Scholarship Application
X-ALT-DESC;FMTTYPE=text/html:2020 Ag Breakfast catered by Pewter Hall<br />\n<br />\n<a href="https://chambermaster.blob.core.windows.net/userfiles/UserFiles/chambers/1199/File/2020AgScholarshipApplication.pdf">Dick Moren Scholarship Application</a>
LOCATION:American Legion Post #89 400 W. Second Street Seymour
UID:e.1199.10333
SEQUENCE:3
DTSTAMP:20260425T020550Z
URL:https://business.jacksoncochamber.com/events/details/2020-seymour-chamber-ag-breakfast-scholarship-presentation-10333
END:VEVENT

END:VCALENDAR
