BEGIN:VCALENDAR
VERSION:2.0
PRODID:-//ChamberMaster//Event Calendar 2.0//EN
METHOD:PUBLISH
X-PUBLISHED-TTL:P3D
REFRESH-INTERVAL:P3D
CALSCALE:GREGORIAN
BEGIN:VEVENT
DTSTART:20200811T130000Z
DTEND:20200811T153000Z
X-MICROSOFT-CDO-ALLDAYEVENT:FALSE
SUMMARY:2020 Leadership Conference: Building for the Future {Hosted by: Seymour Chamber}
DESCRIPTION:Leadership Conference: Building for the Future\n\nKeynote Speaker: Lindsay Boccardo (Topic: Why Building Multi-Generational Teams is the Future of Work)\n\n\n\nBreakfast\, light snacks & beverages will be available!\n\n\n\nSponsorships Available
X-ALT-DESC;FMTTYPE=text/html:Leadership Conference: Building for the Future<br />\nKeynote Speaker: Lindsay Boccardo (Topic: Why Building Multi-Generational Teams is the Future of Work)<br />\n<br />\n<em>Breakfast\, light snacks &amp\; beverages will be available!</em><br />\n<br />\n<a href="https://growthzonesitesprod.azureedge.net/wp-content/uploads/sites/1454/2020/06/Leadership-Sponsorships.pdf">Sponsorships Available</a>
LOCATION:Pines Evergreen Room 4120 US Hwy 31 Seymour
UID:e.1199.10564
SEQUENCE:3
DTSTAMP:20260421T200037Z
URL:https://business.jacksoncochamber.com/events/details/2020-leadership-conference-building-for-the-future-hosted-by-seymour-chamber-10564
END:VEVENT

END:VCALENDAR
